BEGIN:VCALENDAR
VERSION:2.0
PRODID:-//Petro WOMEN Talk! - ECPv6.15.12.2//NONSGML v1.0//EN
CALSCALE:GREGORIAN
METHOD:PUBLISH
X-WR-CALNAME:Petro WOMEN Talk!
X-ORIGINAL-URL:https://petrowomentalk.com
X-WR-CALDESC:Eventos para Petro WOMEN Talk!
REFRESH-INTERVAL;VALUE=DURATION:PT1H
X-Robots-Tag:noindex
X-PUBLISHED-TTL:PT1H
BEGIN:VTIMEZONE
TZID:Europe/Paris
BEGIN:DAYLIGHT
TZOFFSETFROM:+0100
TZOFFSETTO:+0200
TZNAME:CEST
DTSTART:20240331T010000
END:DAYLIGHT
BEGIN:STANDARD
TZOFFSETFROM:+0200
TZOFFSETTO:+0100
TZNAME:CET
DTSTART:20241027T010000
END:STANDARD
BEGIN:DAYLIGHT
TZOFFSETFROM:+0100
TZOFFSETTO:+0200
TZNAME:CEST
DTSTART:20250330T010000
END:DAYLIGHT
BEGIN:STANDARD
TZOFFSETFROM:+0200
TZOFFSETTO:+0100
TZNAME:CET
DTSTART:20251026T010000
END:STANDARD
BEGIN:DAYLIGHT
TZOFFSETFROM:+0100
TZOFFSETTO:+0200
TZNAME:CEST
DTSTART:20260329T010000
END:DAYLIGHT
BEGIN:STANDARD
TZOFFSETFROM:+0200
TZOFFSETTO:+0100
TZNAME:CET
DTSTART:20261025T010000
END:STANDARD
END:VTIMEZONE
BEGIN:VEVENT
DTSTART;TZID=Europe/Paris:20250221T080000
DTEND;TZID=Europe/Paris:20250221T170000
DTSTAMP:20260421T095219
CREATED:20251126T170247Z
LAST-MODIFIED:20251127T001824Z
UID:22899-1740124800-1740157200@petrowomentalk.com
SUMMARY:1º Fórum Nacional de Negócios Sustentáveis
DESCRIPTION:No 1º Fórum Nacional de Negócios Sustentáveis\, discutimos a importância dos negócios sustentáveis\, o papel das políticas regulatórias e os desafios e oportunidades que surgem nesse contexto. Ficou claro que a colaboração entre governo\, sector privado e sociedade civil é essencial para avançarmos enquanto sociedade. \nUma empresa que se esforça em aplicar medidas sustentáveis\, não apenas do ponto de vista ambiental\, mas na conscientização\, na educação\, na produtividade\, não está a beneficiar apenas à ela própria\, mas também às futuras gerações. \nQue legado queremos deixar? Que ações podemos tomar hoje para um futuro mais sustentável? \nAgradeço a ALLORA (SU) LDA Winne Cadete Nara Machado Lázaro Vicente pela organização excelente e por me ter convidado para moderar o painel sobre Políticas e Regulamentos Existentes no âmbito da Sustentabilidade\, onde discutimos como os negócios podem se alinhar às demandas por sustentabilidade\, quais são os desafios enfrentados e o papel das políticas regulatórias neste processo. Agradeço aos painelistas pelas excelentes intervenções\, às minhas colegas moderadoras Ludy Sebastião e Olivia Andre pela parceria nesta caminhada\, e à todos os participantes pela discussão enriquecedora. \nO que plantamos hoje\, certamente colheremos amanhã. A nossa realidade hoje reflectirá o futuro\, por isso é de extrema importância que o debate continue.\nVamos continuar essa conversa e trabalhar juntos por um mundo mais sustentável. \n 
URL:https://petrowomentalk.com/event/1o-forum-nacional-de-negocios-sustentaveis/
CATEGORIES:Eventos
ATTACH;FMTTYPE=image/jpeg:https://petrowomentalk.com/wp-content/uploads/2025/11/1740226770055.jpg
END:VEVENT
END:VCALENDAR