BEGIN:VCALENDAR
VERSION:2.0
PRODID:-//Petro WOMEN Talk! - ECPv6.15.12.2//NONSGML v1.0//EN
CALSCALE:GREGORIAN
METHOD:PUBLISH
X-WR-CALNAME:Petro WOMEN Talk!
X-ORIGINAL-URL:https://petrowomentalk.com
X-WR-CALDESC:Eventos para Petro WOMEN Talk!
REFRESH-INTERVAL;VALUE=DURATION:PT1H
X-Robots-Tag:noindex
X-PUBLISHED-TTL:PT1H
BEGIN:VTIMEZONE
TZID:Europe/Paris
BEGIN:DAYLIGHT
TZOFFSETFROM:+0100
TZOFFSETTO:+0200
TZNAME:CEST
DTSTART:20240331T010000
END:DAYLIGHT
BEGIN:STANDARD
TZOFFSETFROM:+0200
TZOFFSETTO:+0100
TZNAME:CET
DTSTART:20241027T010000
END:STANDARD
BEGIN:DAYLIGHT
TZOFFSETFROM:+0100
TZOFFSETTO:+0200
TZNAME:CEST
DTSTART:20250330T010000
END:DAYLIGHT
BEGIN:STANDARD
TZOFFSETFROM:+0200
TZOFFSETTO:+0100
TZNAME:CET
DTSTART:20251026T010000
END:STANDARD
BEGIN:DAYLIGHT
TZOFFSETFROM:+0100
TZOFFSETTO:+0200
TZNAME:CEST
DTSTART:20260329T010000
END:DAYLIGHT
BEGIN:STANDARD
TZOFFSETFROM:+0200
TZOFFSETTO:+0100
TZNAME:CET
DTSTART:20261025T010000
END:STANDARD
BEGIN:DAYLIGHT
TZOFFSETFROM:+0100
TZOFFSETTO:+0200
TZNAME:CEST
DTSTART:20270328T010000
END:DAYLIGHT
BEGIN:STANDARD
TZOFFSETFROM:+0200
TZOFFSETTO:+0100
TZNAME:CET
DTSTART:20271031T010000
END:STANDARD
END:VTIMEZONE
BEGIN:VEVENT
DTSTART;TZID=Europe/Paris:20250903T080000
DTEND;TZID=Europe/Paris:20250904T200000
DTSTAMP:20260420T051429
CREATED:20250905T080032Z
LAST-MODIFIED:20251127T001155Z
UID:22965-1756886400-1757016000@petrowomentalk.com
SUMMARY:Conferência e Exposição Angola Oil & Gas (AOG)
DESCRIPTION:A Conferência e Exposição Angola Oil & Gas (AOG) reúne financiadores globais\, promotores de projectos de alto nível e as principais partes interessadas do panorama angolano e mundial do petróleo e do gás para assinar acordos e avançar com projectos. \nO AOG mostra o compromisso de Angola em impulsionar a sua indústria de petróleo e gás e destaca os esforços de colaboração entre os órgãos governamentais e o sector privado para promover o crescimento e a inovação. Este evento exclusivo oferece oportunidades inigualáveis para interagir com líderes influentes\, obter informações sobre as últimas tendências da indústria e explorar potenciais oportunidades de negócio no rico sector de petróleo e gás de Angola. \n  \n    
URL:https://petrowomentalk.com/event/conferencia-e-exposicao-angola-oil-gas-aog/
CATEGORIES:Conferências,Eventos
ATTACH;FMTTYPE=image/jpeg:https://petrowomentalk.com/wp-content/uploads/2025/11/WhatsApp-Image-2025-11-27-at-00.32.33.jpeg
END:VEVENT
BEGIN:VEVENT
DTSTART;TZID=Europe/Paris:20251020T143000
DTEND;TZID=Europe/Paris:20251020T220000
DTSTAMP:20260420T051429
CREATED:20251126T180720Z
LAST-MODIFIED:20251126T181054Z
UID:22913-1760970600-1760997600@petrowomentalk.com
SUMMARY:Cocktail de celebração dos 5 anos de Conteúdo Local
DESCRIPTION:O sector de Petróleo e Gás de Angola celebrou um marco importante: cinco anos da Lei de Conteúdo Local (Decreto Presidencial nº 271/20\, 20 de outubro)\, uma das políticas mais transformadoras da história recente do nosso setor. \nO evento organizado pela ASSEA Berta Conde Issa Paulo Mauricio destacou-se pela forma nobre e simbólica como homenageou os pioneiros e principais impulsionadores desse movimento\, que continua a fortalecer a presença e a competitividade das empresas e profissionais angolanos em todo o setor. Foi um momento de reconhecimento\, reflexão e renovado compromisso. \nCinco anos depois\, o progresso é evidente:\n– maior participação de empresas nacionais;\n– mais talentos angolanos em posições-chave;\n– e uma compreensão crescente de que conteúdo local significa desenvolvimento sustentável. \nMas isso é só o começo. Os próximos cinco anos exigirão de todos nós — empresas\, instituições\, líderes e profissionais — coragem\, inovação e verdadeira colaboração\, para que o conteúdo local vá além da política e se torne parte duradoura da cultura empresarial de Angola. \nTambém foi maravilhoso reconectar com a Dra. Lurdes Caposso Fernandes — uma verdadeira pioneira\, sempre apaixonada por conteúdo local\, e a pessoa que me apresentou pela primeira vez à indústria de petróleo e gás em 2013\, em seu escritório de advocacia\, LCF Advogados. \nFortalecer o conteúdo local é\, acima de tudo\, acreditar no potencial do nosso próprio país. 🇦🇴 \n  \n    
URL:https://petrowomentalk.com/event/cocktail-de-celebracao-dos-5-anos-de-conteudo-local/
CATEGORIES:Eventos
ATTACH;FMTTYPE=image/jpeg:https://petrowomentalk.com/wp-content/uploads/2025/11/1761902341749.jpg
END:VEVENT
BEGIN:VEVENT
DTSTART;TZID=Europe/Paris:20251101T080000
DTEND;TZID=Europe/Paris:20251101T170000
DTSTAMP:20260420T051429
CREATED:20251126T165317Z
LAST-MODIFIED:20251127T002321Z
UID:22894-1761984000-1762016400@petrowomentalk.com
SUMMARY:Campeonato Universitário PetroChamp
DESCRIPTION:Conheçam os moderadores oficiais do PETROCHAMP 2025! \nCom o carisma e o profissionalismo que marcam este grande evento académico\, apresentamos os rostos que irão conduzir o palco do PETROCHAMP 2025: \nTeresa Augusto – Senior Legal Advisor na Agência Nacional de Petróleo\, Gás e Biocombustíveis (ANPG)\, fundadora do Petro Women Talk\, e uma das vozes mais inspiradoras da liderança feminina e do conteúdo local no sector energético angolano. Oradora\, mentora e defensora do empoderamento das mulheres na engenharia e no petróleo\, Teresa traz ao PETROCHAMP a sua autenticidade e energia transformadora. \nDaniel Filipe Dongo – Doutorando em Engineering and Management no Instituto Superior Técnico (Universidade de Lisboa)\, com foco na Energy Transition da indústria do petróleo e gás. Foi distinguido como o Melhor Estudante de Mestrado em Oil and Gas Management pela Coventry University (Reino Unido\, 2019–2020). Engenheiro\, académico e comunicador\, Daniel representa a nova geração de líderes que unem conhecimento técnico e visão global. \nJuntos\, Teresa e Daniel darão voz\, ritmo e brilho ao PETROCHAMP 2025\, o palco onde a excelência e a inovação dos jovens engenheiros ganham vida! \n  \n   
URL:https://petrowomentalk.com/event/campeonato-universitario-petrochamp/
LOCATION:Hotel Intercontinental\, Luanda\, Angola
CATEGORIES:Eventos
ATTACH;FMTTYPE=image/jpeg:https://petrowomentalk.com/wp-content/uploads/2025/11/1763491617061.jpg
END:VEVENT
BEGIN:VEVENT
DTSTART;TZID=Europe/Paris:20251127T170000
DTEND;TZID=Europe/Paris:20251127T193000
DTSTAMP:20260420T051429
CREATED:20251210T090935Z
LAST-MODIFIED:20251210T171326Z
UID:23084-1764262800-1764271800@petrowomentalk.com
SUMMARY:1º Aniversário do Petro Women Talk
DESCRIPTION:O Petro Women Talk Podcast vai fazer 1 ano! \nJunte-se a nós no dia 27 de novembro\, em Luanda\, para uma experiência única que celebra 1 ano de histórias\, impacto e inspiração no sector energético. \nSerá uma noite especial com:\n✨ Podcast ao vivo\n✨ Momentos de reconhecimento e gratidão\n✨ Partilhas transformadoras\n✨ Networking com convidados e apoiantes do projecto \nA celebração é limitada por isso garanta já o seu lugar neste encontro memorável que honra a força das mulheres e a evolução do sector.
URL:https://petrowomentalk.com/event/1o-aniversario-do-petro-women-talk/
CATEGORIES:Eventos
ATTACH;FMTTYPE=image/jpeg:https://petrowomentalk.com/wp-content/uploads/2025/12/1764892880022.jpg
ORGANIZER;CN="Petro Women Talk Podcast":MAILTO:info@petrowomantalk.com
END:VEVENT
BEGIN:VEVENT
DTSTART;VALUE=DATE:20260101
DTEND;VALUE=DATE:20261202
DTSTAMP:20260420T051429
CREATED:20251210T093724Z
LAST-MODIFIED:20251210T171104Z
UID:23089-1767225600-1796169599@petrowomentalk.com
SUMMARY:PetroFest 2026 – O Primeiro Festival de Oil & Gás de Angola
DESCRIPTION:O PetroFest 2026 \nnasce como um marco histórico para o sector de Oil & Gás\, reunindo profissionais\, empresas\, estudantes e o público em geral num ambiente inovador\, cultural e cheio de energia. \nPrepare-se para uma experiência única com: \n1. Momentos Culturais \nCelebração da identidade angolana com actuações culturais\, música ao vivo\, dança e expressões artísticas que valorizam a nossa cultura e conectam tradição e inovação. \n2. Networking \nUm espaço estratégico para criar conexões reais: \n\nProfissionais do sector\nInvestidores\nStartups\nEstudantes e jovens talentos\nIdeal para parcerias\, negócios e novas oportunidades.\n\n3. Exposição de Projectos \nApresentação de projectos inovadores\, tecnologias emergentes e soluções para o futuro do Oil & Gás em Angola e África. \nEmpresas\, instituições e empreendedores a mostrar o que estão a construir hoje para o amanhã. \n4. Palestras e Painéis \nDebates inspiradores com especialistas nacionais e internacionais sobre: \n\nFuturo do Oil & Gás\nSustentabilidade e transição energética\nInovação\, formação e oportunidades no sector\nConteúdo de alto nível para quem quer aprender\, evoluir e liderar.\n\n5. E Muita Diversão \nPorque conhecimento também se vive com alegria! \nAmbiente descontraído\, experiências interativas\, entretenimento e momentos inesquecíveis para todos os participantes. \nPetroFest 2026 \nMais do que um evento\, um movimento que conecta energia\, pessoas e futuro. \nEm breve: data\, local e programação completa. \nNão fique de fora deste marco histórico! \nhttps://petrowomentalk.com/wp-content/uploads/2025/12/SPOT-PETROFEST-2026.mp4
URL:https://petrowomentalk.com/event/petrofest-2026-o-primeiro-festival-de-oil-gas-de-angola/
CATEGORIES:Eventos
ATTACH;FMTTYPE=image/png:https://petrowomentalk.com/wp-content/uploads/2025/12/1.png
END:VEVENT
BEGIN:VEVENT
DTSTART;TZID=Europe/Paris:20260129T150000
DTEND;TZID=Europe/Paris:20260129T210000
DTSTAMP:20260420T051429
CREATED:20260205T162240Z
LAST-MODIFIED:20260212T082906Z
UID:23195-1769698800-1769720400@petrowomentalk.com
SUMMARY:Petro Women Talk marca presença no evento "Legado ao Futuro" da Muhatu Energy Angola
DESCRIPTION:O Petro Women Talk! marcou presença no evento “Do Legado ao Futuro”\, promovido pela Muhatu Energy Angola (MEA)\, realizado no Hotel Marina Bay\, na Ilha de Luanda. A iniciativa teve como objectivo reconhecer e homenagear mulheres e profissionais que contribuíram de forma significativa para o desenvolvimento do sector petrolífero angolano ao longo dos últimos 50 anos\, no âmbito das comemorações da Independência Nacional. \nO evento contou com a presença de diversas figuras de destaque\, entre elas a Primeira Dama da República de Angola\, Dra. Ana Dias Lourenço\, que prestigiou a cerimónia\, reforçando a importância da valorização do papel da mulher na construção do futuro do país. Também esteve presente o Secretário de Estado para o Petróleo e Gás\, José Barroso\, que\, em nota do ministério\, realçou o contributo da mulher angolana no sector petrolífero\, sublinhando o seu impacto no crescimento e sustentabilidade da indústria. \nDurante a cerimónia\, a Muhatu Energy Angola promoveu momentos de homenagem a profissionais pioneiras e líderes do sector (80 homenageadas)\, entre as quais se destacaram Albina Assis\, ex-Ministra do Petróleo e a primeira mulher a liderar a Sonangol\, bem como Maria Coelho\, Laurentina Santos\, Maria Diogo e Ednalda Magalhães\, reconhecendo a dedicação\, competência e o legado deixado por estas mulheres que ajudaram a moldar a história da indústria petrolífera em Angola. As distinções simbolizaram o passado construído e a inspiração para as novas gerações. \nO Petro Women Talk participou activamente no evento\, montando o seu espaço próprio e realizando edições especiais do seu habitual podcast\, com diferentes convidados. Os momentos de conversa abordaram temas ligados à liderança feminina\, desafios profissionais e oportunidades no sector de petróleo e gás\, reforçando a missão da plataforma de capacitar\, informar e inspirar a comunidade. \n 
URL:https://petrowomentalk.com/event/petro-women-marca-presenca-no-evento-legado-ao-futuro-da-muhatu-energy-angola/
CATEGORIES:Eventos
ATTACH;FMTTYPE=image/png:https://petrowomentalk.com/wp-content/uploads/2026/02/PWT-1.png
END:VEVENT
END:VCALENDAR